<?xml version="1.0" encoding="UTF-8" standalone="no"?>
<metadata xml:lang="en">
<Esri>
<CreaDate>20250826</CreaDate>
<CreaTime>02141300</CreaTime>
<ArcGISFormat>1.0</ArcGISFormat>
<SyncOnce>FALSE</SyncOnce>
<DataProperties>
<itemProps>
<itemName Sync="TRUE">2025Imagery_3Inch_3Band.tif</itemName>
<itemLocation>
<linkage Sync="TRUE">file://H:\Imagery\WIBAYF25-MOSAICS-LIB\GeoTiffs2025\2025Imagery_3Inch_3Band.tif</linkage>
<protocol Sync="TRUE">Local Area Network</protocol>
</itemLocation>
<imsContentType Sync="TRUE">002</imsContentType>
<nativeExtBox>
<westBL Sync="TRUE">647592.000000</westBL>
<eastBL Sync="TRUE">850872.000000</eastBL>
<southBL Sync="TRUE">298056.000000</southBL>
<northBL Sync="TRUE">609576.000000</northBL>
<exTypeCode Sync="TRUE">1</exTypeCode>
</nativeExtBox>
</itemProps>
<coordRef>
<type Sync="TRUE">Projected</type>
<geogcsn Sync="TRUE">GCS_North_American_1983_HARN</geogcsn>
<csUnits Sync="TRUE">Linear Unit: Foot_US (0.304801)</csUnits>
<projcsn Sync="TRUE">NAD_1983_HARN_WISCRS_Bayfield_County_Feet</projcsn>
<peXml Sync="TRUE">&lt;ProjectedCoordinateSystem xsi:type='typens:ProjectedCoordinateSystem' xmlns:xsi='http://www.w3.org/2001/XMLSchema-instance' xmlns:xs='http://www.w3.org/2001/XMLSchema' xmlns:typens='http://www.esri.com/schemas/ArcGIS/3.3.0'&gt;&lt;WKT&gt;PROJCS[&amp;quot;NAD_1983_HARN_WISCRS_Bayfield_County_Feet&amp;quot;,GEOGCS[&amp;quot;GCS_North_American_1983_HARN&amp;quot;,DATUM[&amp;quot;D_North_American_1983_HARN&amp;quot;,SPHEROID[&amp;quot;GRS_1980&amp;quot;,6378137.0,298.257222101]],PRIMEM[&amp;quot;Greenwich&amp;quot;,0.0],UNIT[&amp;quot;Degree&amp;quot;,0.0174532925199433]],PROJECTION[&amp;quot;Lambert_Conformal_Conic&amp;quot;],PARAMETER[&amp;quot;False_Easting&amp;quot;,750000.001],PARAMETER[&amp;quot;False_Northing&amp;quot;,487372.659],PARAMETER[&amp;quot;Central_Meridian&amp;quot;,-91.15277777777779],PARAMETER[&amp;quot;Standard_Parallel_1&amp;quot;,46.66964837722222],PARAMETER[&amp;quot;Scale_Factor&amp;quot;,1.0000331195],PARAMETER[&amp;quot;Latitude_Of_Origin&amp;quot;,46.66964837722222],UNIT[&amp;quot;Foot_US&amp;quot;,0.3048006096012192],AUTHORITY[&amp;quot;EPSG&amp;quot;,8216]]&lt;/WKT&gt;&lt;XOrigin&gt;-118376900&lt;/XOrigin&gt;&lt;YOrigin&gt;-98863600&lt;/YOrigin&gt;&lt;XYScale&gt;37805060.212013364&lt;/XYScale&gt;&lt;ZOrigin&gt;-100000&lt;/ZOrigin&gt;&lt;ZScale&gt;10000&lt;/ZScale&gt;&lt;MOrigin&gt;-100000&lt;/MOrigin&gt;&lt;MScale&gt;10000&lt;/MScale&gt;&lt;XYTolerance&gt;0.0032808333333333331&lt;/XYTolerance&gt;&lt;ZTolerance&gt;0.001&lt;/ZTolerance&gt;&lt;MTolerance&gt;0.001&lt;/MTolerance&gt;&lt;HighPrecision&gt;true&lt;/HighPrecision&gt;&lt;WKID&gt;103403&lt;/WKID&gt;&lt;LatestWKID&gt;8216&lt;/LatestWKID&gt;&lt;/ProjectedCoordinateSystem&gt;</peXml>
</coordRef>
<RasterProperties>
<General>
<PixelDepth Sync="TRUE">8</PixelDepth>
<HasColormap Sync="TRUE">FALSE</HasColormap>
<CompressionType Sync="TRUE">LZW</CompressionType>
<NumBands Sync="TRUE">4</NumBands>
<Format Sync="TRUE">TIFF</Format>
<HasPyramids Sync="TRUE">TRUE</HasPyramids>
<SourceType Sync="TRUE">continuous</SourceType>
<PixelType Sync="TRUE">unsigned integer</PixelType>
<NoDataValue Sync="TRUE">256</NoDataValue>
</General>
</RasterProperties>
<lineage>
<Process Date="20250826" Time="021414" ToolSource="c:\program files\arcgis\pro\Resources\ArcToolbox\toolboxes\Data Management Tools.tbx\MosaicToNewRaster">MosaicToNewRaster 'H:\Imagery\WIBAYF25-MOSAICS-LIB\Area Wide Mosaics\WIBAYF25-JP2-3INCH\64759E298056N.jp2';'H:\Imagery\WIBAYF25-MOSAICS-LIB\Area Wide Mosaics\WIBAYF25-JP2-3INCH\64759E308616N.jp2';'H:\Imagery\WIBAYF25-MOSAICS-LIB\Area Wide Mosaics\WIBAYF25-JP2-3INCH\64759E319176N.jp2';'H:\Imagery\WIBAYF25-MOSAICS-LIB\Area Wide Mosaics\WIBAYF25-JP2-3INCH\64759E329736N.jp2';'H:\Imagery\WIBAYF25-MOSAICS-LIB\Area Wide Mosaics\WIBAYF25-JP2-3INCH\64759E340296N.jp2';'H:\Imagery\WIBAYF25-MOSAICS-LIB\Area Wide Mosaics\WIBAYF25-JP2-3INCH\64759E350856N.jp2';'H:\Imagery\WIBAYF25-MOSAICS-LIB\Area Wide Mosaics\WIBAYF25-JP2-3INCH\64759E361416N.jp2';'H:\Imagery\WIBAYF25-MOSAICS-LIB\Area Wide Mosaics\WIBAYF25-JP2-3INCH\64759E371976N.jp2';'H:\Imagery\WIBAYF25-MOSAICS-LIB\Area Wide Mosaics\WIBAYF25-JP2-3INCH\64759E382536N.jp2';'H:\Imagery\WIBAYF25-MOSAICS-LIB\Area Wide Mosaics\WIBAYF25-JP2-3INCH\64759E393096N.jp2';'H:\Imagery\WIBAYF25-MOSAICS-LIB\Area Wide Mosaics\WIBAYF25-JP2-3INCH\64759E403656N.jp2';'H:\Imagery\WIBAYF25-MOSAICS-LIB\Area Wide Mosaics\WIBAYF25-JP2-3INCH\64759E414216N.jp2';'H:\Imagery\WIBAYF25-MOSAICS-LIB\Area Wide Mosaics\WIBAYF25-JP2-3INCH\64759E424776N.jp2';'H:\Imagery\WIBAYF25-MOSAICS-LIB\Area Wide Mosaics\WIBAYF25-JP2-3INCH\64759E435336N.jp2';'H:\Imagery\WIBAYF25-MOSAICS-LIB\Area Wide Mosaics\WIBAYF25-JP2-3INCH\64759E445896N.jp2';'H:\Imagery\WIBAYF25-MOSAICS-LIB\Area Wide Mosaics\WIBAYF25-JP2-3INCH\64759E456456N.jp2';'H:\Imagery\WIBAYF25-MOSAICS-LIB\Area Wide Mosaics\WIBAYF25-JP2-3INCH\64759E467016N.jp2';'H:\Imagery\WIBAYF25-MOSAICS-LIB\Area Wide Mosaics\WIBAYF25-JP2-3INCH\64759E477576N.jp2';'H:\Imagery\WIBAYF25-MOSAICS-LIB\Area Wide Mosaics\WIBAYF25-JP2-3INCH\64759E488136N.jp2';'H:\Imagery\WIBAYF25-MOSAICS-LIB\Area Wide Mosaics\WIBAYF25-JP2-3INCH\69247E488136N.jp2';'H:\Imagery\WIBAYF25-MOSAICS-LIB\Area Wide Mosaics\WIBAYF25-JP2-3INCH\69247E501336N.jp2';'H:\Imagery\WIBAYF25-MOSAICS-LIB\Area Wide Mosaics\WIBAYF25-JP2-3INCH\69247E514536N.jp2';'H:\Imagery\WIBAYF25-MOSAICS-LIB\Area Wide Mosaics\WIBAYF25-JP2-3INCH\69247E527736N.jp2';'H:\Imagery\WIBAYF25-MOSAICS-LIB\Area Wide Mosaics\WIBAYF25-JP2-3INCH\76375E527736N.jp2';'H:\Imagery\WIBAYF25-MOSAICS-LIB\Area Wide Mosaics\WIBAYF25-JP2-3INCH\79543E527736N.jp2';'H:\Imagery\WIBAYF25-MOSAICS-LIB\Area Wide Mosaics\WIBAYF25-JP2-3INCH\79543E567336N.jp2' H:\Imagery\WIBAYF25-MOSAICS-LIB\GeoTiffs2025 2025Imagery_3Inch_3Band.tif PROJCS["NAD_1983_HARN_WISCRS_Bayfield_County_Feet",GEOGCS["GCS_North_American_1983_HARN",DATUM["D_North_American_1983_HARN",SPHEROID["GRS_1980",6378137.0,298.257222101]],PRIMEM["Greenwich",0.0],UNIT["Degree",0.0174532925199433]],PROJECTION["Lambert_Conformal_Conic"],PARAMETER["False_Easting",750000.001],PARAMETER["False_Northing",487372.659],PARAMETER["Central_Meridian",-91.15277777777779],PARAMETER["Standard_Parallel_1",46.66964837722222],PARAMETER["Scale_Factor",1.0000331195],PARAMETER["Latitude_Of_Origin",46.66964837722222],UNIT["Foot_US",0.3048006096012192]] "8 bit unsigned" # 4 Mean First</Process>
</lineage>
</DataProperties>
<SyncDate>20250826</SyncDate>
<SyncTime>02141300</SyncTime>
<ModDate>20250826</ModDate>
<ModTime>02141300</ModTime>
</Esri>
<dataIdInfo>
<envirDesc Sync="TRUE">Microsoft Windows Server 2016 Technical Preview Version 10.0 (Build 17763) ; Esri ArcGIS 13.3.2.52636</envirDesc>
<dataLang>
<languageCode Sync="TRUE" value="eng"/>
<countryCode Sync="TRUE" value="USA"/>
</dataLang>
<idCitation>
<resTitle Sync="TRUE">BFImagery2025_3inch_RGB</resTitle>
<presForm>
<PresFormCd Sync="TRUE" value="005"/>
</presForm>
</idCitation>
<spatRpType>
<SpatRepTypCd Sync="TRUE" value="002"/>
</spatRpType>
<dataExt>
<geoEle>
<GeoBndBox esriExtentType="search">
<exTypeCode Sync="TRUE">1</exTypeCode>
<westBL Sync="TRUE">-91.563198</westBL>
<eastBL Sync="TRUE">-90.748513</eastBL>
<northBL Sync="TRUE">47.004694</northBL>
<southBL Sync="TRUE">46.149843</southBL>
</GeoBndBox>
</geoEle>
</dataExt>
<idAbs/>
<idPurp/>
<idCredit/>
<resConst>
<Consts>
<useLimit/>
</Consts>
</resConst>
</dataIdInfo>
<mdLang>
<languageCode Sync="TRUE" value="eng"/>
<countryCode Sync="TRUE" value="USA"/>
</mdLang>
<mdChar>
<CharSetCd Sync="TRUE" value="004"/>
</mdChar>
<distInfo>
<distFormat>
<formatName Sync="TRUE">Raster Dataset</formatName>
</distFormat>
</distInfo>
<mdHrLv>
<ScopeCd Sync="TRUE" value="005"/>
</mdHrLv>
<mdHrLvName Sync="TRUE">dataset</mdHrLvName>
<refSysInfo>
<RefSystem>
<refSysID>
<identCode Sync="TRUE" code="8216"/>
<idCodeSpace Sync="TRUE">EPSG</idCodeSpace>
<idVersion Sync="TRUE">9.1(10.7.0)</idVersion>
</refSysID>
</RefSystem>
</refSysInfo>
<spatRepInfo>
<Georect>
<cellGeo>
<CellGeoCd Sync="TRUE" value="002"/>
</cellGeo>
<numDims Sync="TRUE">2</numDims>
<tranParaAv Sync="TRUE">1</tranParaAv>
<chkPtAv Sync="TRUE">0</chkPtAv>
<cornerPts>
<pos Sync="TRUE">647592.000000 298056.000000</pos>
</cornerPts>
<cornerPts>
<pos Sync="TRUE">647592.000000 609576.000000</pos>
</cornerPts>
<cornerPts>
<pos Sync="TRUE">850872.000000 609576.000000</pos>
</cornerPts>
<cornerPts>
<pos Sync="TRUE">850872.000000 298056.000000</pos>
</cornerPts>
<centerPt>
<pos Sync="TRUE">749232.000000 453816.000000</pos>
</centerPt>
<axisDimension type="002">
<dimSize Sync="TRUE">813120</dimSize>
<dimResol>
<value Sync="TRUE" uom="ftUS">0.250000</value>
</dimResol>
</axisDimension>
<axisDimension type="001">
<dimSize Sync="TRUE">1246080</dimSize>
<dimResol>
<value Sync="TRUE" uom="ftUS">0.250000</value>
</dimResol>
</axisDimension>
<ptInPixel>
<PixOrientCd Sync="TRUE" value="001"/>
</ptInPixel>
</Georect>
</spatRepInfo>
<contInfo>
<ImgDesc>
<contentTyp>
<ContentTypCd Sync="TRUE" value="001"/>
</contentTyp>
<covDim>
<Band>
<dimDescrp Sync="TRUE">Band_1</dimDescrp>
<maxVal Sync="TRUE">255.000000</maxVal>
<minVal Sync="TRUE">0.000000</minVal>
<bitsPerVal Sync="TRUE">8</bitsPerVal>
<valUnit>
<UOM type="length"/>
</valUnit>
</Band>
<Band>
<dimDescrp Sync="TRUE">Band_2</dimDescrp>
<maxVal Sync="TRUE">255.000000</maxVal>
<minVal Sync="TRUE">0.000000</minVal>
<bitsPerVal Sync="TRUE">8</bitsPerVal>
<valUnit>
<UOM type="length"/>
</valUnit>
</Band>
<Band>
<dimDescrp Sync="TRUE">Band_3</dimDescrp>
<maxVal Sync="TRUE">255.000000</maxVal>
<minVal Sync="TRUE">0.000000</minVal>
<bitsPerVal Sync="TRUE">8</bitsPerVal>
<valUnit>
<UOM type="length"/>
</valUnit>
</Band>
<Band>
<dimDescrp Sync="TRUE">Band_4</dimDescrp>
<maxVal Sync="TRUE">255.000000</maxVal>
<minVal Sync="TRUE">0.000000</minVal>
<bitsPerVal Sync="TRUE">8</bitsPerVal>
<valUnit>
<UOM type="length"/>
</valUnit>
</Band>
</covDim>
</ImgDesc>
</contInfo>
<mdDateSt Sync="TRUE">20250826</mdDateSt>
</metadata>
