View In:
ArcGIS JavaScript
ArcGIS Online Map Viewer
ArcGIS Earth
Service Description: BFImagery2025_3inch_RGB
Name: BFImagery2025_3inch_RGB
Description:
Single Fused Map Cache: false
Extent:
XMin: 647592.0
YMin: 298056.0
XMax: 850872.0
YMax: 609576.0
Spatial Reference: 103403
(8216)
LatestVCSWkid(0)
Initial Extent:
XMin: 647592.0
YMin: 298056.0
XMax: 850872.0
YMax: 609576.0
Spatial Reference: 103403
(8216)
LatestVCSWkid(0)
Full Extent:
XMin: 647592.0
YMin: 298056.0
XMax: 850872.0
YMax: 609576.0
Spatial Reference: 103403
(8216)
LatestVCSWkid(0)
Pixel Size X: 0.25
Pixel Size Y: 0.25
Band Count: 4
Pixel Type: U8
RasterFunction Infos: {"rasterFunctionInfos": [{
"name": "None",
"description": "",
"help": ""
}]}
Mensuration Capabilities: Basic
Inspection Capabilities:
Has Histograms: true
Has Colormap: false
Has Multi Dimensions : false
Rendering Rule:
Min Scale: 0
Max Scale: 0
Resampling: false
Copyright Text:
Service Data Type: esriImageServiceDataTypeGeneric
Min Values: 0, 0, 0, 0
Max Values: 255, 255, 255, 255
Mean Values: 107.79280829166, 99.425417091364, 81.211626821925, 179.39238703493
Standard Deviation Values: 79.482133510037, 74.113584270567, 66.016674366279, 116.46201200286
Object ID Field:
Fields:
None
Default Mosaic Method: Center
Allowed Mosaic Methods:
SortField:
SortValue: null
Mosaic Operator: First
Default Compression Quality: 75
Default Resampling Method: Bilinear
Max Record Count: null
Max Image Height: 4100
Max Image Width: 15000
Max Download Image Count: null
Max Mosaic Image Count: null
Allow Raster Function: true
Allow Copy: true
Allow Analysis: true
Allow Compute TiePoints: false
Supports Statistics: false
Supports Advanced Queries: false
Use StandardizedQueries: true
Raster Type Infos:
Name: Raster Dataset
Description: Supports all ArcGIS Raster Datasets
Help:
Has Raster Attribute Table: false
Edit Fields Info: null
Ownership Based AccessControl For Rasters: null
Child Resources:
Info
Histograms
Statistics
Key Properties
Legend
Raster Function Infos
Supported Operations:
Export Image
Identify
Measure
Compute Histograms
Compute Statistics Histograms
Get Samples
Compute Class Statistics
Query Boundary
Compute Pixel Location
Compute Angles
Validate
Project